BEGIN:VCALENDAR
VERSION:2.0
PRODID:-//Ramblewood Country Club - ECPv6.15.11//NONSGML v1.0//EN
CALSCALE:GREGORIAN
METHOD:PUBLISH
X-WR-CALNAME:Ramblewood Country Club
X-ORIGINAL-URL:https://ramblewoodcc.com
X-WR-CALDESC:Events for Ramblewood Country Club
REFRESH-INTERVAL;VALUE=DURATION:PT1H
X-Robots-Tag:noindex
X-PUBLISHED-TTL:PT1H
BEGIN:VTIMEZONE
TZID:UTC
BEGIN:STANDARD
TZOFFSETFROM:+0000
TZOFFSETTO:+0000
TZNAME:UTC
DTSTART:20250101T000000
END:STANDARD
END:VTIMEZONE
BEGIN:VEVENT
DTSTART;TZID=UTC:20260701T180000
DTEND;TZID=UTC:20260701T200000
DTSTAMP:20260424T120744
CREATED:20251029T163815Z
LAST-MODIFIED:20251104T171105Z
UID:10000130-1782928800-1782936000@ramblewoodcc.com
SUMMARY:Game Show Palooza Night
DESCRIPTION:Join us every Wednesday from 6-8pm to test your wits at the Tavern for Game Show Palooza Trivia Night! Plus\, score $1 off appetizers and domestic drafts every week when you join us. \nSee you there!
URL:https://ramblewoodcc.com/event/game-show-palooza-night/2026-07-01/
ATTACH;FMTTYPE=image/jpeg:https://ramblewoodcc.com/wp-content/uploads/2025/10/RJG-1920-x-1080-px-4-4.jpg
END:VEVENT
BEGIN:VEVENT
DTSTART;TZID=UTC:20260708T180000
DTEND;TZID=UTC:20260708T200000
DTSTAMP:20260424T120744
CREATED:20251029T163815Z
LAST-MODIFIED:20251104T171105Z
UID:10000131-1783533600-1783540800@ramblewoodcc.com
SUMMARY:Game Show Palooza Night
DESCRIPTION:Join us every Wednesday from 6-8pm to test your wits at the Tavern for Game Show Palooza Trivia Night! Plus\, score $1 off appetizers and domestic drafts every week when you join us. \nSee you there!
URL:https://ramblewoodcc.com/event/game-show-palooza-night/2026-07-08/
ATTACH;FMTTYPE=image/jpeg:https://ramblewoodcc.com/wp-content/uploads/2025/10/RJG-1920-x-1080-px-4-4.jpg
END:VEVENT
BEGIN:VEVENT
DTSTART;TZID=UTC:20260715T180000
DTEND;TZID=UTC:20260715T200000
DTSTAMP:20260424T120744
CREATED:20251029T163815Z
LAST-MODIFIED:20251104T171105Z
UID:10000132-1784138400-1784145600@ramblewoodcc.com
SUMMARY:Game Show Palooza Night
DESCRIPTION:Join us every Wednesday from 6-8pm to test your wits at the Tavern for Game Show Palooza Trivia Night! Plus\, score $1 off appetizers and domestic drafts every week when you join us. \nSee you there!
URL:https://ramblewoodcc.com/event/game-show-palooza-night/2026-07-15/
ATTACH;FMTTYPE=image/jpeg:https://ramblewoodcc.com/wp-content/uploads/2025/10/RJG-1920-x-1080-px-4-4.jpg
END:VEVENT
BEGIN:VEVENT
DTSTART;TZID=UTC:20260716T183000
DTEND;TZID=UTC:20260716T210000
DTSTAMP:20260424T120744
CREATED:20260406T152915Z
LAST-MODIFIED:20260406T152915Z
UID:10000415-1784226600-1784235600@ramblewoodcc.com
SUMMARY:Summer Concert
DESCRIPTION:Join us for our second summer concert of the season! Enjoy an evening of live music\, games\, and great local vendors — fun for the whole family! See all the details below: \n\nCode 4 Band\nEncouraged to bring lawn chairs & blankets\nNo outside food & beverage allowed\nNo pets
URL:https://ramblewoodcc.com/event/summer-concert-4/
ATTACH;FMTTYPE=image/jpeg:https://ramblewoodcc.com/wp-content/uploads/2026/04/RJG-1920-x-1080-px-6-1.jpg
END:VEVENT
BEGIN:VEVENT
DTSTART;TZID=UTC:20260722T180000
DTEND;TZID=UTC:20260722T200000
DTSTAMP:20260424T120744
CREATED:20251029T163815Z
LAST-MODIFIED:20251104T171105Z
UID:10000133-1784743200-1784750400@ramblewoodcc.com
SUMMARY:Game Show Palooza Night
DESCRIPTION:Join us every Wednesday from 6-8pm to test your wits at the Tavern for Game Show Palooza Trivia Night! Plus\, score $1 off appetizers and domestic drafts every week when you join us. \nSee you there!
URL:https://ramblewoodcc.com/event/game-show-palooza-night/2026-07-22/
ATTACH;FMTTYPE=image/jpeg:https://ramblewoodcc.com/wp-content/uploads/2025/10/RJG-1920-x-1080-px-4-4.jpg
END:VEVENT
BEGIN:VEVENT
DTSTART;TZID=UTC:20260729T180000
DTEND;TZID=UTC:20260729T200000
DTSTAMP:20260424T120744
CREATED:20251029T163815Z
LAST-MODIFIED:20251104T171105Z
UID:10000134-1785348000-1785355200@ramblewoodcc.com
SUMMARY:Game Show Palooza Night
DESCRIPTION:Join us every Wednesday from 6-8pm to test your wits at the Tavern for Game Show Palooza Trivia Night! Plus\, score $1 off appetizers and domestic drafts every week when you join us. \nSee you there!
URL:https://ramblewoodcc.com/event/game-show-palooza-night/2026-07-29/
ATTACH;FMTTYPE=image/jpeg:https://ramblewoodcc.com/wp-content/uploads/2025/10/RJG-1920-x-1080-px-4-4.jpg
END:VEVENT
END:VCALENDAR